BEGIN:VCALENDAR
VERSION:2.0
PRODID:-//RAND Luxury - ECPv4.9.2//NONSGML v1.0//EN
CALSCALE:GREGORIAN
METHOD:PUBLISH
X-WR-CALNAME:RAND Luxury
X-ORIGINAL-URL:https://randluxury.com
X-WR-CALDESC:Events for RAND Luxury
BEGIN:VEVENT
DTSTART;TZID=UTC+0:20170610T110000
DTEND;TZID=UTC+0:20170610T150000
DTSTAMP:20260423T090454
CREATED:20190202T003037Z
LAST-MODIFIED:20190206T010203Z
UID:2072-1497092400-1497106800@randluxury.com
SUMMARY:British Luxury Brunch
DESCRIPTION:RAND Luxury is proud to produce the British Luxury Brunch in Greenwich Connecticut in association with Miller Motorcars & Greenwich Magazine. On display will be the latest models from Bentley\, Rolls-Royce\, Aston Martin\, and McLaren. \nInvited guests shall enjoy fine cuisine\, champagne & spirits at an elegant private estate in Greenwich\, CT. On display will be a luxury showcase of fine timepieces\, jewelry\, home electronics & decor\, private aviation\, tourism opportunities\, fashion & accessories and more…\nThe brunch will also feature a Silent Auction that will benefit Greenwich Hospital Foundation – “Under the Stars” \nTo showcase your brand in front of 250+ affluent guests in this intimate setting or at our other events\, please contact Bradford Rand at BRand@RANDLuxury.com or 212 655 4505 ext. 223. \n  \nEvent Video\n\nEvent Photos\n \nEvent Sponsors\n\nAcker Merrall & Condit\nAlec Bradley Cigars\nArtis Brush\nBetteridge\nBucco Couture\nGlenfiddich Scotch\nGrandstand Sports and Memorabilia\nGreenwich Hospital Foundation\nGreenwich Magazine\nHonda Aircraft Company\nImmotor\nIn Villas Veritas\nJ Mendel\nJet Aviation Holdings\nMacaron Bites\nMiller Motorcars\nNew York Prime Beef\nParsons Xtreme Golf\nPatron\nStone Farm\n\n
URL:https://randluxury.com/event/british-luxury-brunch/
LOCATION:Private Estate\, Greenwich\, CT\, United States
ATTACH;FMTTYPE=image/jpeg:https://randluxury.com/wp-content/uploads/2019/02/bentleybrunch-1.jpg
ORGANIZER;CN="Bradford%20Rand":MAILTO:brand@randluxury.com
END:VEVENT
END:VCALENDAR